BEGIN:VCALENDAR
VERSION:2.0
PRODID:-//ChamberMaster//Event Calendar 2.0//EN
METHOD:PUBLISH
X-PUBLISHED-TTL:P3D
REFRESH-INTERVAL:P3D
CALSCALE:GREGORIAN
BEGIN:VEVENT
DTSTART:20181005T130000Z
DTEND:20181005T190000Z
X-MICROSOFT-CDO-ALLDAYEVENT:FALSE
SUMMARY:Business Showcase 2018
DESCRIPTION:
X-ALT-DESC;FMTTYPE=text/html:
LOCATION:Venice Community Center 326 Nokomis Ave S\, Venice\, FL 34285
UID:e.3379.1033
SEQUENCE:3
DTSTAMP:20260426T033512Z
URL:https://business.venicechamber.com/events/details/business-showcase-2018-10-05-2018-1033
END:VEVENT

END:VCALENDAR
