BEGIN:VCALENDAR
VERSION:2.0
PRODID:-//ChamberMaster//Event Calendar 2.0//EN
METHOD:PUBLISH
X-PUBLISHED-TTL:P3D
REFRESH-INTERVAL:P3D
CALSCALE:GREGORIAN
BEGIN:VEVENT
DTSTART:20200320T120000Z
DTEND:20200320T130000Z
X-MICROSOFT-CDO-ALLDAYEVENT:FALSE
SUMMARY:Business EDGE - MEETING CANCELLED
DESCRIPTION:The Business EDGE meetings inform\, educate\, and lend insight into current issues related to Economic Development Government Engagement (EDGE).
X-ALT-DESC;FMTTYPE=text/html:The Business EDGE meetings inform\, educate\, and lend insight into current issues related to Economic Development Government Engagement (EDGE).
LOCATION:Venice Area Chamber of Commerce 597 Tamiami Trail South Venice\, FL 34285
UID:e.3379.1713
SEQUENCE:3
DTSTAMP:20260425T011711Z
URL:https://business.venicechamber.com/events/details/business-edge-meeting-cancelled-1713
END:VEVENT

END:VCALENDAR
