BEGIN:VCALENDAR
VERSION:2.0
PRODID:-//ChamberMaster//Event Calendar 2.0//EN
METHOD:PUBLISH
X-PUBLISHED-TTL:P3D
REFRESH-INTERVAL:P3D
CALSCALE:GREGORIAN
BEGIN:VEVENT
DTSTART:20190517T120000Z
DTEND:20190517T130000Z
X-MICROSOFT-CDO-ALLDAYEVENT:FALSE
SUMMARY:Business EDGE
DESCRIPTION:The Business EDGE meetings inform\, educate\, and lend insight into current issues related to Economic Development Government Engagement (EDGE).
X-ALT-DESC;FMTTYPE=text/html:The Business EDGE meetings inform\, educate\, and lend insight into current issues related to Economic Development Government Engagement (EDGE).
LOCATION:
UID:e.3379.1124
SEQUENCE:3
DTSTAMP:20260425T153144Z
URL:https://business.venicechamber.com/events/details/business-edge-05-17-2019-1124
END:VEVENT

END:VCALENDAR
