BEGIN:VCALENDAR
VERSION:2.0
PRODID:-//ChamberMaster//Event Calendar 2.0//EN
METHOD:PUBLISH
X-PUBLISHED-TTL:P3D
REFRESH-INTERVAL:P3D
CALSCALE:GREGORIAN
BEGIN:VEVENT
DTSTART:20200221T130000Z
DTEND:20200221T140000Z
X-MICROSOFT-CDO-ALLDAYEVENT:FALSE
SUMMARY:Business EDGE
DESCRIPTION:The Business EDGE meetings inform\, educate\, and lend insight into current issues related to Economic Development Government Engagement (EDGE).\n\n\n\nJoin us for an open discussion of the $15 Minimum Wage Ballot Initiative and its Potential Impact on Businesses.  Guest panelists include Trent Young\, Captain's Landing of Venice\; Debbie LaPinska\, PGT Innovations\; and Justin Pachota\, Venice Pier Group (Sharky's\, Fins\, and Snook Haven).
X-ALT-DESC;FMTTYPE=text/html:The Business EDGE meetings inform\, educate\, and lend insight into current issues related to Economic Development Government Engagement (EDGE).<br />\n<br />\nJoin us for an open discussion of the $15 Minimum Wage Ballot Initiative and its Potential Impact on Businesses.&nbsp\; Guest panelists include Trent Young\, Captain&#39\;s Landing of Venice\; Debbie LaPinska\, PGT Innovations\; and Justin Pachota\, Venice Pier Group (Sharky&#39\;s\, Fins\, and Snook Haven).<br />\n&nbsp\;
LOCATION:Venice Area Chamber of Commerce 597 Tamiami Trail South Venice\, FL 34285
UID:e.3379.1709
SEQUENCE:3
DTSTAMP:20260425T005903Z
URL:https://business.venicechamber.com/events/details/business-edge-02-21-2020-1709
END:VEVENT

END:VCALENDAR
