BEGIN:VCALENDAR
VERSION:2.0
PRODID:-//ChamberMaster//Event Calendar 2.0//EN
METHOD:PUBLISH
X-PUBLISHED-TTL:P3D
REFRESH-INTERVAL:P3D
CALSCALE:GREGORIAN
BEGIN:VEVENT
DTSTART:20221117T210000Z
DTEND:20221117T230000Z
X-MICROSOFT-CDO-ALLDAYEVENT:FALSE
SUMMARY:Business Connections The Venice Mercato - November 17\, 2022
DESCRIPTION:Join us for Business Connections at The Venice Mercato on the Island and leverage our network to build your business! \n\n\n\nThe Vendors will be open for business for you to come and shop!\n\n\n\n You MUST preregister. We cannot take walk ins.  \n\n\n\nDoor prizes are welcome to promote your business!  Registration is available now!\n\n\n\n*You must preregister for this event\, no walk ins.  \n\n\n\n*Non Chamber members may only attend one time. the Chamber s Networking Events are STRICTLY for the benefit of its dues paying Members. \n\n\n\nThe Venice Area Chamber of Commerce is committed to the health and safety of its members.  We are monitoring and following the latest direction as outlined by local\, state\, and federal officials.  We recommend that all attendees review and follow the latest guidance on the COVID-19 pandemic from the Centers for Disease Control and Prevention (CDC):  https://www.cdc.gov/coronavirus/2019-ncov/index.html\n\n \n\n*IT IS POSSIBLE AT ANY OF OUR CHAMBER EVENTS WE WILL BE TAKING PHOTOS AND/OR VIDEOING\, AND THAT YOU MAY BE FEATURED IN THESE PHOTOS/VIDEOS. THESE PHOTOS/VIDEOS ARE FOR THE USE OF THE VENICE AREA CHAMBER OF COMMERCE ONLY AND COULD POSSIBLY BE FEATURED ON OUR SOCIAL MEDIA ACCOUNTS\, ON OUR WEBSITE\, AND/OR IN THE CHAMBER?S ADVERTISEMENTS AND PROMOTIONAL MATERIALS.
X-ALT-DESC;FMTTYPE=text/html:<p><span style="font-size:18px\;"><strong>Join us for Business Connections at The Venice Mercato on the Island and l</strong></span><strong style="font-size: 18px\;">everage our network to build your business!&nbsp\;<br />\n<br />\nThe Vendors will be open for business for you to come and shop!</strong><br />\n<br />\n<span style="font-size:18px\;">&nbsp\;<strong>You MUST preregister. We cannot take walk ins.&nbsp\;&nbsp\;<br />\n<br />\nDoor prizes are welcome to promote your business!&nbsp\; Registration is available now!</strong></span><br />\n<br />\n<em>*You must preregister for this event\, no walk ins.&nbsp\;&nbsp\;</em><br />\n<br />\n*Non Chamber members may only attend one time. the Chamber s Networking Events are STRICTLY for the benefit of its dues paying Members.&nbsp\;<br />\n<br />\n<strong><span style="font-family:calibri\,sans-serif\;"><span style="font-size:12.0pt\;">The Venice Area Chamber of Commerce is committed to the health and safety of its members.&nbsp\; We are monitoring and following the latest&nbsp\;direction as outlined&nbsp\;by local\, state\, and federal officials.&nbsp\; We recommend that all attendees review and follow the latest guidance on the COVID-19 pandemic from the Centers for Disease Control and Prevention (CDC):&nbsp\;&nbsp\;<u><a href="https://www.cdc.gov/coronavirus/2019-ncov/index.html"><span style="font-weight:normal\;">https://www.cdc.gov/coronavirus/2019-ncov/index.html</span></a></u></span></span></strong><br />\n&nbsp\;<br />\n<em><strong><span style="text-transform:uppercase\;letter-spacing:1.5pt\;"><span style="color:black\;"><span style="font-family:helvetica\,sans-serif\;"><span style="font-size:7.0pt\;">*IT IS POSSIBLE AT ANY OF OUR CHAMBER EVENTS WE WILL BE TAKING PHOTOS AND/OR VIDEOING\, AND THAT YOU MAY BE FEATURED IN THESE PHOTOS/VIDEOS. THESE PHOTOS/VIDEOS ARE FOR THE USE OF THE VENICE AREA CHAMBER OF COMMERCE ONLY AND COULD POSSIBLY BE FEATURED ON OUR SOCIAL MEDIA ACCOUNTS\, ON OUR WEBSITE\, AND/OR IN THE CHAMBER?S ADVERTISEMENTS AND PROMOTIONAL MATERIALS.</span></span></span></span></strong></em></p>\n
LOCATION:The Venice Mercato on the Island (Vintage Market) 200 Base Street Venice FL 34285
UID:e.3379.6634
SEQUENCE:3
DTSTAMP:20260420T065945Z
URL:https://business.venicechamber.com/events/details/business-connections-the-venice-mercato-november-17-2022-6634
END:VEVENT

END:VCALENDAR
