BEGIN:VCALENDAR
VERSION:2.0
PRODID:-//ChamberMaster//Event Calendar 2.0//EN
METHOD:PUBLISH
X-PUBLISHED-TTL:P3D
REFRESH-INTERVAL:P3D
CALSCALE:GREGORIAN
BEGIN:VEVENT
DTSTART:20240125T213000Z
DTEND:20240125T230000Z
X-MICROSOFT-CDO-ALLDAYEVENT:FALSE
SUMMARY:Business Connections Back Porch Brewing Company - January 25\, 2024
DESCRIPTION:Come build your network with like-minded business professionals with the Venice Area Chamber of Commerce\, hosted by Back Porch Brewing Company! Leverage our network to build your business while enjoying some food and drinks.\n\n\n\nLooking to promote your business? Tabletop Sponsorships are available! Sponsorship includes a table for you to display your marketing materials and a 30-second commercial during the event. This is a great way to meet the members and market your company. Contact Charleen Myers\, Member Engagement Director\, for more information at cmyers@venicechamber.com.\n\n\n\nWe will have a Ribbon Cutting at 5:15 PM.\n\n\n\n \n\n*IT IS POSSIBLE AT ANY OF OUR CHAMBER EVENTS WE WILL BE TAKING PHOTOS AND/OR VIDEOING\, AND THAT YOU MAY BE FEATURED IN THESE PHOTOS/VIDEOS. THESE PHOTOS/VIDEOS ARE FOR THE USE OF THE VENICE AREA CHAMBER OF COMMERCE ONLY AND COULD POSSIBLY BE FEATURED ON OUR SOCIAL MEDIA ACCOUNTS\, ON OUR WEBSITE\, AND/OR IN THE CHAMBER'S ADVERTISEMENTS AND PROMOTIONAL MATERIALS.
X-ALT-DESC;FMTTYPE=text/html:<p style="text-align: justify\;"><strong><span style="font-size:18px\;">Come build your network with like-minded business professionals with the Venice Area Chamber of Commerce\, hosted by Back Porch Brewing Company! Leverage our network to build your business while enjoying some food and drinks.<br />\n<br />\n<span style="color:#FF0000\;">Looking to promote your business? Tabletop Sponsorships are&nbsp\;available! Sponsorship includes a table for you to display your marketing materials and a 30-second commercial during the event. This is a&nbsp\;great way to meet the members and market your company. Contact Charleen Myers\, Member Engagement Director\, for more information at <a href="mailto:cmyers@venicechamber.com?subject=Table%20Top%20Sponsorship"><u>cmyers@venicechamber.com</u></a>.</span></span></strong></p>\n\n<p><br />\n<strong style="font-family: arial\; font-size: 18px\;">We will have a Ribbon Cutting at 5:15 PM.</strong><br />\n<br />\n&nbsp\;</p>\n\n<p style="text-align: justify\;"><em><strong><span style="text-transform:uppercase\;letter-spacing:1.5pt\;"><span style="color:black\;"><span style="font-family:helvetica\,sans-serif\;"><span style="font-size:7.0pt\;">*IT IS POSSIBLE AT ANY OF OUR CHAMBER EVENTS WE WILL BE TAKING PHOTOS AND/OR VIDEOING\, AND THAT YOU MAY BE FEATURED IN THESE PHOTOS/VIDEOS. THESE PHOTOS/VIDEOS ARE FOR THE USE OF THE VENICE AREA CHAMBER OF COMMERCE ONLY AND COULD POSSIBLY BE FEATURED ON OUR SOCIAL MEDIA ACCOUNTS\, ON OUR WEBSITE\, AND/OR IN THE CHAMBER&#39\;S ADVERTISEMENTS AND PROMOTIONAL MATERIALS.</span></span></span></span></strong></em></p>\n
LOCATION:Back Porch Brewing Company 3469 Precision Drive Unit 1 N Venice\, FL 34275
UID:e.3379.8362
SEQUENCE:3
DTSTAMP:20260421T130414Z
URL:https://business.venicechamber.com/events/details/business-connections-back-porch-brewing-company-january-25-2024-8362
END:VEVENT

END:VCALENDAR
