BEGIN:VCALENDAR
VERSION:2.0
PRODID:-//ChamberMaster//Event Calendar 2.0//EN
METHOD:PUBLISH
X-PUBLISHED-TTL:P3D
REFRESH-INTERVAL:P3D
CALSCALE:GREGORIAN
BEGIN:VEVENT
DTSTART:20190619T114500Z
DTEND:20190619T130000Z
X-MICROSOFT-CDO-ALLDAYEVENT:FALSE
SUMMARY:Business Brew - June 2019
DESCRIPTION:Join us for our monthly business meeting while enjoying a cup of coffee and continental breakfast.  Providing you with an opportunity to meet other businesses\, Committee Chairs and Board members.
X-ALT-DESC;FMTTYPE=text/html:<p><span style="font-size: 18px\;">Join us for our monthly business meeting while enjoying a cup of coffee and continental breakfast.&nbsp\; Providing you with an opportunity to meet other businesses\, Committee Chairs&nbsp\;and Board members.</span></p>\n
LOCATION:HarborChase 950 Pinebrook Road Venice FL 34285
UID:e.3379.1107
SEQUENCE:3
DTSTAMP:20260425T153058Z
URL:https://business.venicechamber.com/events/details/business-brew-june-2019-1107
END:VEVENT

END:VCALENDAR
