BEGIN:VCALENDAR
VERSION:2.0
PRODID:-//ChamberMaster//Event Calendar 2.0//EN
METHOD:PUBLISH
X-PUBLISHED-TTL:P3D
REFRESH-INTERVAL:P3D
CALSCALE:GREGORIAN
BEGIN:VEVENT
DTSTART:20200115T124500Z
DTEND:20200115T140000Z
X-MICROSOFT-CDO-ALLDAYEVENT:FALSE
SUMMARY:Business Brew - January 2020
DESCRIPTION:Join us for our monthly business meeting while enjoying a cup of coffee and continental breakfast.  Providing you with an opportunity to meet other businesses\, Committee Chairs and Board members.
X-ALT-DESC;FMTTYPE=text/html:<p><span style="font-size: 18px\;">Join us for our monthly business meeting while enjoying a cup of coffee and continental breakfast.&nbsp\; Providing you with an opportunity to meet other businesses\, Committee Chairs&nbsp\;and Board members.</span></p>\n
LOCATION:Office Depo 1564 US Highway 41 Bypass S Venice FL 34292
UID:e.3379.1662
SEQUENCE:3
DTSTAMP:20260425T023339Z
URL:https://business.venicechamber.com/events/details/business-brew-january-2020-1662
END:VEVENT

END:VCALENDAR
