BEGIN:VCALENDAR
VERSION:2.0
PRODID:-//ChamberMaster//Event Calendar 2.0//EN
METHOD:PUBLISH
X-PUBLISHED-TTL:P3D
REFRESH-INTERVAL:P3D
CALSCALE:GREGORIAN
BEGIN:VEVENT
DTSTART:20190523T213000Z
DTEND:20190523T230000Z
X-MICROSOFT-CDO-ALLDAYEVENT:FALSE
SUMMARY:Business After Five - May 2019
DESCRIPTION:Come build your network with like-minded business professionals FROM ALL THREE CHAMBERS while enjoying delicious hors d'oeurves and refreshments.  Sponsorship Opportunity Available! *contact Charleen Myers for more information.   Don't forget your business cards!!!\n\n \n\n\n\n\n\n*Non Chamber members may only attend one time. the Chamber s Networking Events are STRICTLY for the benefit of its dues paying Members.
X-ALT-DESC;FMTTYPE=text/html:<p><span style="font-size:18px\;">Come build your network with like-minded business professionals FROM ALL THREE CHAMBERS while enjoying delicious hors d&#39\;oeurves and refreshments.&nbsp\; Sponsorship Opportunity Available! <em>*contact Charleen Myers for more information.&nbsp\; </em>&nbsp\;Don&#39\;t forget your business cards!!!</span><br />\n<span style="font-size:18px\;">&nbsp\;</span><br />\n<br />\n<br />\n*Non Chamber members may only attend one time. the Chamber s Networking Events are STRICTLY for the benefit of its dues paying Members.&nbsp\;<br />\n&nbsp\;</p>\n
LOCATION:Plantation Golf & Country Club 500 Rockley Blvd. Venice FL 34293
UID:e.3379.1100
SEQUENCE:3
DTSTAMP:20260425T153045Z
URL:https://business.venicechamber.com/events/details/business-after-five-may-2019-1100
END:VEVENT

END:VCALENDAR
