BEGIN:VCALENDAR
VERSION:2.0
PRODID:-//ChamberMaster//Event Calendar 2.0//EN
METHOD:PUBLISH
X-PUBLISHED-TTL:P3D
REFRESH-INTERVAL:P3D
CALSCALE:GREGORIAN
BEGIN:VEVENT
DTSTART:20190228T223000Z
DTEND:20190301T000000Z
X-MICROSOFT-CDO-ALLDAYEVENT:FALSE
SUMMARY:Business After Five - February 2019
DESCRIPTION:Come build your network with like-minded business professionals while enjoying delicious hors d'oeurves and refreshments.  Don't forget your business cards!!!\n\n \n\n\n\n\n\n*Non Chamber members may only attend one time. the Chamber s Networking Events are STRICTLY for the benefit of its dues paying Members.
X-ALT-DESC;FMTTYPE=text/html:<p><span style="font-size:18px\;">Come build your network with like-minded business professionals while enjoying delicious hors d&#39\;oeurves and refreshments.&nbsp\; Don&#39\;t forget your business cards!!!</span><br />\n<span style="font-size:18px\;">&nbsp\;</span><br />\n<br />\n<br />\n*Non Chamber members may only attend one time. the Chamber s Networking Events are STRICTLY for the benefit of its dues paying Members.&nbsp\;<br />\n&nbsp\;</p>\n
LOCATION:Venice Art Center 390 Nokomis Ave S Venice FL 34285
UID:e.3379.1087
SEQUENCE:3
DTSTAMP:20260425T223533Z
URL:https://business.venicechamber.com/events/details/business-after-five-february-2019-1087
END:VEVENT

END:VCALENDAR
