BEGIN:VCALENDAR
VERSION:2.0
PRODID:-//ChamberMaster//Event Calendar 2.0//EN
METHOD:PUBLISH
X-PUBLISHED-TTL:P3D
REFRESH-INTERVAL:P3D
CALSCALE:GREGORIAN
BEGIN:VEVENT
DTSTART:20220228T210000Z
DTEND:20220228T220000Z
X-MICROSOFT-CDO-ALLDAYEVENT:FALSE
SUMMARY:Board of Directors Meeting
DESCRIPTION:Venice Area Chamber of Commerce\n\nMonthly Board of Directors Meeting
X-ALT-DESC;FMTTYPE=text/html:<span style="font-size:18px\;">Venice Area Chamber of Commerce<br />\nMonthly&nbsp\;Board of Directors Meeting</span><br />\n&nbsp\;
LOCATION:
UID:e.3379.6718
SEQUENCE:3
DTSTAMP:20260419T181818Z
URL:https://business.venicechamber.com/events/details/board-of-directors-meeting-6718
END:VEVENT

END:VCALENDAR
