BEGIN:VCALENDAR
VERSION:2.0
PRODID:-//ChamberMaster//Event Calendar 2.0//EN
METHOD:PUBLISH
X-PUBLISHED-TTL:P3D
REFRESH-INTERVAL:P3D
CALSCALE:GREGORIAN
BEGIN:VEVENT
DTSTART:20200508T150000Z
DTEND:20200508T160000Z
X-MICROSOFT-CDO-ALLDAYEVENT:FALSE
SUMMARY:8 ways to re-invent yourself in a crisis
DESCRIPTION:During this 3 part webinar series\, Dane DeSantis of Hallmark Business Brokers\, Inc.\, will discuss the real stories of 8 business owners who invested in change to emerge from a crisis with a better more durable\, and valuable company.
X-ALT-DESC;FMTTYPE=text/html:<span style="font-size:18px\;"><strong>During this 3 part webinar series\, Dane DeSantis of Hallmark Business Brokers\, Inc.\, will discuss the real stories of 8 business owners who invested in change to emerge from a crisis with a better more durable\, and valuable company. </strong></span><br />\n<br />\n<br />\n&nbsp\;
LOCATION:Venice Area Chamber of Commerce 597 Tamiami Trail S Venice FL 34285
UID:e.3379.1906
SEQUENCE:3
DTSTAMP:20260424T204145Z
URL:https://business.venicechamber.com/events/details/8-ways-to-re-invent-yourself-in-a-crisis-1906
END:VEVENT

END:VCALENDAR
