BEGIN:VCALENDAR
VERSION:2.0
PRODID:-//ChamberMaster//Event Calendar 2.0//EN
METHOD:PUBLISH
X-PUBLISHED-TTL:P3D
REFRESH-INTERVAL:P3D
CALSCALE:GREGORIAN
BEGIN:VEVENT
DTSTART:20220114T140000Z
DTEND:20220114T150000Z
X-MICROSOFT-CDO-ALLDAYEVENT:FALSE
SUMMARY:2022 Marketing Trends
DESCRIPTION:Are you interested in learning more about 2022 Marketing Trends?  Join us for an interactive session led by Evolution Marketing\, a 5 star Google rated company\, highlighting upcoming trends in marketing and cutting edge tools for marketing in the new year.
X-ALT-DESC;FMTTYPE=text/html:<span style="font-size:14px\;"><strong>Are you interested in learning more about 2022 Marketing Trends?&nbsp\; Join us for an interactive session led by Evolution Marketing\, a 5 star Google rated company\, highlighting upcoming trends in marketing and cutting edge tools for marketing in the new year.</strong></span><br />\n<br />\n&nbsp\;
LOCATION:Venice Area Chamber of Commerce 597 Tamiami Trail S Venice\, FL 34285
UID:e.3379.6524
SEQUENCE:3
DTSTAMP:20260419T144906Z
URL:https://business.venicechamber.com/events/details/2022-marketing-trends-6524
END:VEVENT

END:VCALENDAR
