BEGIN:VCALENDAR
VERSION:2.0
PRODID:-//ChamberMaster//Event Calendar 2.0//EN
METHOD:PUBLISH
X-PUBLISHED-TTL:P3D
REFRESH-INTERVAL:P3D
CALSCALE:GREGORIAN
BEGIN:VEVENT
DTSTART:20220422T120000Z
DTEND:20220422T140000Z
X-MICROSOFT-CDO-ALLDAYEVENT:FALSE
SUMMARY:2022 Economic Outlook Breakfast
DESCRIPTION:Dr. Jerry Parrish\, Economist - Florida State University\, will discuss how the invasion of Ukraine is affecting global markets and those effects on the Florida economy.  He will give his outlook for the Florida economy as we continue to recover from the pandemic\, concentrating on the outlook for Sarasota County region.\n\n\n\nReserve your seat now as space is limited!\n\n\n\n*IT IS POSSIBLE AT ANY OF OUR CHAMBER EVENTS WE WILL BE TAKING PHOTOS AND/OR VIDEOING\, AND THAT YOU MAY BE FEATURED IN THESE PHOTOS/VIDEOS. THESE PHOTOS/VIDEOS ARE FOR THE USE OF THE VENICE AREA CHAMBER OF COMMERCE ONLY AND COULD POSSIBLY BE FEATURED ON OUR SOCIAL MEDIA ACCOUNTS\, ON OUR WEBSITE\, AND/OR IN THE CHAMBER'S ADVERTISEMENTS AND PROMOTIONAL MATERIALS.
X-ALT-DESC;FMTTYPE=text/html:<b>Dr. Jerry Parrish\, Economist - Florida State University\, will discuss how the invasion of Ukraine is affecting global markets and those effects on the Florida economy.&nbsp\; He will give his outlook for the Florida economy as we continue to recover from the pandemic\, concentrating on the outlook for Sarasota County region.<br />\n<br />\nReserve your seat now as space is limited!</b><br />\n<br />\n<em style="box-sizing: border-box\; color: rgb(68\, 68\, 68)\; font-family: Arial\, Helvetica\, sans-serif\; font-size: 16px\;"><span style="box-sizing: border-box\; font-size: 9px\;"><span style="box-sizing: border-box\; color: rgb(0\, 0\, 0)\; font-family: Montserrat\, Helvetica\, Arial\, Lucida\, sans-serif\; font-weight: 700\; letter-spacing: 2px\; text-align: center\; text-transform: uppercase\;">*IT IS POSSIBLE AT ANY OF OUR CHAMBER EVENTS WE WILL BE TAKING PHOTOS AND/OR VIDEOING\, AND THAT YOU MAY BE FEATURED IN THESE PHOTOS/VIDEOS. THESE PHOTOS/VIDEOS ARE FOR THE USE OF THE VENICE AREA CHAMBER OF COMMERCE ONLY AND COULD POSSIBLY BE FEATURED ON OUR SOCIAL MEDIA ACCOUNTS\, ON OUR WEBSITE\, AND/OR IN THE CHAMBER&rsquo\;S ADVERTISEMENTS AND PROMOTIONAL MATERIALS.</span></span></em><br />\n<br />\n&nbsp\;
LOCATION:The Venice Golf and Country Club 250 Venice Golf Club Drive Venice\, FL 34292
UID:e.3379.6550
SEQUENCE:3
DTSTAMP:20260419T193242Z
URL:https://business.venicechamber.com/events/details/2022-economic-outlook-breakfast-6550
END:VEVENT

END:VCALENDAR
