BEGIN:VCALENDAR
VERSION:2.0
PRODID:-//ChamberMaster//Event Calendar 2.0//EN
METHOD:PUBLISH
X-PUBLISHED-TTL:P3D
REFRESH-INTERVAL:P3D
CALSCALE:GREGORIAN
BEGIN:VEVENT
DTSTART:20220628T130000Z
DTEND:20220628T140000Z
X-MICROSOFT-CDO-ALLDAYEVENT:FALSE
SUMMARY:2022 CareerSource Suncoast Workforce Training Programs
DESCRIPTION:Join us to connect directly with CareerSource Suncoast professionals to learn strategies and solutions for talent recruitment and development at this complimentary workshop! CareerSource Suncoast offers many Employer Services that you may not be familiar with including:\n\n \n\n\n	\n	On-the-Job Training and Customized Training Grant Services\n	\n	\n	Apprenticeship Services\n	\n	\n	Veteran Services\n	\n	\n	Ticket to Work Program\n	\n	\n	Services available to HR Professionals through their National Emergency Grants Program
X-ALT-DESC;FMTTYPE=text/html:<p style="text-align: justify\;"><strong><span style="font-size:14px\;">Join us to connect directly with CareerSource Suncoast professionals to learn strategies and solutions for talent recruitment and development at this complimentary workshop! CareerSource Suncoast offers many Employer Services that you may not be familiar with including:</span></strong><br />\n&nbsp\;</p>\n\n<ul>\n	<li style="text-align: justify\;">\n	<p><span style="font-size:14px\;"><strong>On-the-Job Training and Customized Training Grant Services</strong></span></p>\n	</li>\n	<li style="text-align: justify\;">\n	<p><strong><span style="font-size:14px\;">Apprenticeship Services</span></strong></p>\n	</li>\n	<li style="text-align: justify\;">\n	<p><strong><span style="font-size:14px\;">Veteran Services</span></strong></p>\n	</li>\n	<li style="text-align: justify\;">\n	<p><strong><span style="font-size:14px\;">Ticket to Work Program</span></strong></p>\n	</li>\n	<li style="text-align: justify\;">\n	<p><strong><span style="font-size:14px\;">Services available to HR Professionals through their National Emergency Grants Program</span></strong></p>\n	</li>\n</ul>\n\n<div style="text-align: center\;">&nbsp\;</div>\n
LOCATION:Venice Area Chamber of Commerce 597 Tamiami Trail S Venice\, FL 34285
UID:e.3379.6555
SEQUENCE:3
DTSTAMP:20260419T225856Z
URL:https://business.venicechamber.com/events/details/2022-careersource-suncoast-workforce-training-programs-6555
END:VEVENT

END:VCALENDAR
