BEGIN:VCALENDAR
VERSION:2.0
PRODID:-//ChamberMaster//Event Calendar 2.0//EN
METHOD:PUBLISH
X-PUBLISHED-TTL:P3D
REFRESH-INTERVAL:P3D
CALSCALE:GREGORIAN
BEGIN:VEVENT
DTSTART:20220429T150000Z
DTEND:20220429T220000Z
X-MICROSOFT-CDO-ALLDAYEVENT:FALSE
SUMMARY:2022 Annual Golf Tournament
DESCRIPTION:All Golfers receive a promotional bag prior to the event\, buffet lunch\, drinks on the course\, and invited to attend the post tournament award reception with heavy hors d'oeuvres. \n\nEach player receives 1 Mulligan and may participate in the Putting Contest\, Hole In One and Longest Drive.\n\n\n\nRaffle tickets will be available for purchase. Door prizes are welcome to promote your business!\n\n\n\n \n\n*IT IS POSSIBLE AT ANY OF OUR CHAMBER EVENTS WE WILL BE TAKING PHOTOS AND/OR VIDEOING\, AND THAT YOU MAY BE FEATURED IN THESE PHOTOS/VIDEOS. THESE PHOTOS/VIDEOS ARE FOR THE USE OF THE VENICE AREA CHAMBER OF COMMERCE ONLY AND COULD POSSIBLY BE FEATURED ON OUR SOCIAL MEDIA ACCOUNTS\, ON OUR WEBSITE\, AND/OR IN THE CHAMBER'S ADVERTISEMENTS AND PROMOTIONAL MATERIALS.
X-ALT-DESC;FMTTYPE=text/html:<p style="text-align: justify\;"><span style="color:#000000\;"><span style="font-size:18px\;">All Golfers receive a promotional bag prior to the event\, buffet lunch\, drinks on the course\, and&nbsp\;invited to attend&nbsp\;the post tournament award reception with heavy hors d&#39\;oeuvres.&nbsp\;</span></span></p>\n\n<p style="text-align: justify\;"><span style="color:#000000\;"><span style="font-size:18px\;">Each player receives 1 Mulligan and may participate in the Putting Contest\, Hole In One and Longest Drive.<br />\n<br />\nRaffle tickets will be available for purchase.&nbsp\;</span></span><span style="font-size: 18px\;"><span style="color:#000000\;">Door prizes are welcome to promote your business!</span><br />\n<br />\n&nbsp\;</span><br />\n<em><span style="font-size: 9px\;"><span style="color: rgb(0\, 0\, 0)\; font-family: Montserrat\, Helvetica\, Arial\, Lucida\, sans-serif\; font-weight: 700\; letter-spacing: 2px\; text-align: center\; text-transform: uppercase\;">*IT IS POSSIBLE AT ANY OF OUR CHAMBER EVENTS WE WILL BE TAKING PHOTOS AND/OR VIDEOING\, AND THAT YOU MAY BE FEATURED IN THESE PHOTOS/VIDEOS. THESE PHOTOS/VIDEOS ARE FOR THE USE OF THE VENICE AREA CHAMBER OF COMMERCE ONLY AND COULD POSSIBLY BE FEATURED ON OUR SOCIAL MEDIA ACCOUNTS\, ON OUR WEBSITE\, AND/OR IN THE CHAMBER&rsquo\;S ADVERTISEMENTS AND PROMOTIONAL MATERIALS.</span></span></em></p>\n
LOCATION:Plantation Golf & Country Club 500 Rockley Blvd Venice\, FL 34293
UID:e.3379.6538
SEQUENCE:3
DTSTAMP:20260419T205804Z
URL:https://business.venicechamber.com/events/details/2022-annual-golf-tournament-6538
END:VEVENT

END:VCALENDAR
