BEGIN:VCALENDAR
VERSION:2.0
PRODID:-//ChamberMaster//Event Calendar 2.0//EN
METHOD:PUBLISH
X-PUBLISHED-TTL:P3D
REFRESH-INTERVAL:P3D
CALSCALE:GREGORIAN
BEGIN:VEVENT
DTSTART:20190426T143000Z
DTEND:20190426T230000Z
X-MICROSOFT-CDO-ALLDAYEVENT:FALSE
SUMMARY:2019 Annual Golf Challenge
DESCRIPTION:All Golfers receive a promotional bag prior to the event\, buffet lunch\, drinks on the course and the post tournament award reception with heavy hors d'oeuvres. \n\nEach player receives 1 Mulligan\, 1 Raffle Ticket\, Putting Contest and Longest Drive. Additional raffle tickets will be available for purchase.
X-ALT-DESC;FMTTYPE=text/html:<p><span style="font-size:18px\;">All Golfers receive a promotional bag prior to the event\, buffet lunch\, drinks on the course and the post tournament award reception with heavy hors d&#39\;oeuvres.&nbsp\;</span></p>\n\n<p><span style="font-size:18px\;">Each player receives 1 Mulligan\, 1 Raffle Ticket\, Putting Contest and Longest Drive. Additional raffle tickets will be available for purchase.</span><br />\n&nbsp\;</p>\n\n<p>&nbsp\;</p>\n
LOCATION:Plantation Golf & Country Club 500 Rockley Blvd Venice\, FL 34293
UID:e.3379.1081
SEQUENCE:3
DTSTAMP:20260425T171922Z
URL:https://business.venicechamber.com/events/details/2019-annual-golf-challenge-1081
END:VEVENT

END:VCALENDAR
